{
 "currentVersion": 11.1,
 "cimVersion": "3.1.0",
 "serviceDescription": "",
 "mapName": "Map",
 "description": "",
 "copyrightText": "",
 "supportsDynamicLayers": true,
 "layers": [
  {
   "id": 0,
   "name": "Ortho_vide_pour_publication",
   "parentLayerId": -1,
   "defaultVisibility": true,
   "subLayerIds": null,
   "minScale": 0,
   "maxScale": 0,
   "type": "Raster Layer",
   "supportsDynamicLegends": true
  }
 ],
 "tables": [],
 "spatialReference": {
  "wkid": 102110,
  "latestWkid": 2154,
  "xyTolerance": 0.001,
  "zTolerance": 0.001,
  "mTolerance": 0.001,
  "falseX": -35597500,
  "falseY": -23641900,
  "xyUnits": 10000,
  "falseZ": -100000,
  "zUnits": 10000,
  "falseM": -100000,
  "mUnits": 10000
 },
 "singleFusedMapCache": true,
 "tileInfo": {
  "rows": 256,
  "cols": 256,
  "dpi": 96,
  "format": "MIXED",
  "compressionQuality": 75,
  "origin": {
   "x": -35597500,
   "y": 48953100
  },
  "spatialReference": {
   "wkid": 102110,
   "latestWkid": 2154,
   "xyTolerance": 0.001,
   "zTolerance": 0.001,
   "mTolerance": 0.001,
   "falseX": -35597500,
   "falseY": -23641900,
   "xyUnits": 10000,
   "falseZ": -100000,
   "zUnits": 10000,
   "falseM": -100000,
   "mUnits": 10000
  },
  "lods": [
   {
    "level": 0,
    "resolution": 305.7480111760223,
    "scale": 1155580.7232
   },
   {
    "level": 1,
    "resolution": 152.87400558801116,
    "scale": 577790.3616
   },
   {
    "level": 2,
    "resolution": 76.43700279400558,
    "scale": 288895.1808
   },
   {
    "level": 3,
    "resolution": 38.21850139700279,
    "scale": 144447.5904
   },
   {
    "level": 4,
    "resolution": 19.109250698501395,
    "scale": 72223.7952
   },
   {
    "level": 5,
    "resolution": 9.554625349250697,
    "scale": 36111.8976
   },
   {
    "level": 6,
    "resolution": 4.777312674625349,
    "scale": 18055.9488
   },
   {
    "level": 7,
    "resolution": 2.3886563373126743,
    "scale": 9027.9744
   },
   {
    "level": 8,
    "resolution": 1.1943281686563372,
    "scale": 4513.9872
   },
   {
    "level": 9,
    "resolution": 0.5971640843281686,
    "scale": 2256.9936
   },
   {
    "level": 10,
    "resolution": 0.2985820421640843,
    "scale": 1128.4968
   },
   {
    "level": 11,
    "resolution": 0.14929102108204215,
    "scale": 564.2484
   },
   {
    "level": 12,
    "resolution": 0.07464551054102107,
    "scale": 282.1242
   }
  ]
 },
 "storageInfo": {
  "storageFormat": "esriMapCacheStorageModeCompactV2",
  "packetSize": 128
 },
 "initialExtent": {
  "xmin": 641999.990374051,
  "ymin": 6849682.485560719,
  "xmax": 662999.990374051,
  "ymax": 6876317.485560719,
  "spatialReference": {
   "wkid": 102110,
   "latestWkid": 2154,
   "xyTolerance": 0.001,
   "zTolerance": 0.001,
   "mTolerance": 0.001,
   "falseX": -35597500,
   "falseY": -23641900,
   "xyUnits": 10000,
   "falseZ": -100000,
   "zUnits": 10000,
   "falseM": -100000,
   "mUnits": 10000
  }
 },
 "fullExtent": {
  "xmin": 641999.990374051,
  "ymin": 6855999.985560719,
  "xmax": 662999.990374051,
  "ymax": 6869999.985560719,
  "spatialReference": {
   "wkid": 102110,
   "latestWkid": 2154,
   "xyTolerance": 0.001,
   "zTolerance": 0.001,
   "mTolerance": 0.001,
   "falseX": -35597500,
   "falseY": -23641900,
   "xyUnits": 10000,
   "falseZ": -100000,
   "zUnits": 10000,
   "falseM": -100000,
   "mUnits": 10000
  }
 },
 "datesInUnknownTimezone": false,
 "minScale": 1155580.7232,
 "maxScale": 0,
 "units": "esriMeters",
 "supportedImageFormatTypes": "PNG32,PNG24,PNG,JPG,DIB,TIFF,EMF,PS,PDF,GIF,SVG,SVGZ,BMP",
 "documentInfo": {
  "Title": "Map1",
  "Author": "",
  "Comments": "",
  "Subject": "",
  "Category": "",
  "Version": "3.0.0",
  "AntialiasingMode": "Fast",
  "TextAntialiasingMode": "Force",
  "Keywords": ""
 },
 "capabilities": "Map,Query,Data",
 "supportedQueryFormats": "JSON, geoJSON, PBF",
 "exportTilesAllowed": true,
 "maxExportTilesCount": 100000,
 "referenceScale": 0.0,
 "datumTransformations": [
  {
   "geoTransforms": [
    {
     "wkid": 1671,
     "latestWkid": 1671,
     "transformForward": true,
     "name": "RGF_1993_To_WGS_1984_1"
    }
   ]
  },
  {
   "geoTransforms": [
    {
     "wkid": 1671,
     "latestWkid": 1671,
     "transformForward": false,
     "name": "RGF_1993_To_WGS_1984_1"
    }
   ]
  }
 ],
 "supportsDatumTransformation": true,
 "floorAwareMapProperties": {
  "defaultFloorFilterSettings": {
   "isEnabled": true
  }
 },
 "archivingInfo": {
  "supportsHistoricMoment": false
 },
 "supportsClipping": true,
 "supportsSpatialFilter": true,
 "supportsTimeRelation": true,
 "supportsQueryDataElements": true,
 "mapUnits": {
  "uwkid": 9001
 },
 "maxRecordCount": 2000,
 "maxImageHeight": 4096,
 "maxImageWidth": 4096,
 "supportedExtensions": "",
 "resampling": true,
 "serviceItemId": "865150b25786438ebd578624737bc1f9"
}
